BEGIN:VCALENDAR
VERSION:2.0
BEGIN:VEVENT
DTSTART:20230909T000000
DTEND:20230910T235900
SUMMARY:Geologins Dag
DESCRIPTION:Hjlp fenknoten Knotte att hitta sin favoritsten, ls kluriga uppgifter och upptck mnga olika sorters stenar p vgen!\n\nView Event at: https://geologinsdag.nu/arrangemang/stenaventyr-med-knotte-3/
END:VEVENT
END:VCALENDAR