BEGIN:VCALENDAR
VERSION:2.0
BEGIN:VEVENT
DTSTART:20250913T100000
DTEND:20250913T133000
SUMMARY:Geologins Dag
DESCRIPTION:Upptck Grimmestorps facinerande istidslandskap. Vi berttar om ett smrgsbord av landskapsformer dr du ocks fr del av artrik flora. Geolog, Torbjrn Persson och biolog Petter Bohman guidar.\n\nView Event at: https://geologinsdag.nu/arrangemang/istidsgeologi-vid-grimmestorp/
END:VEVENT
END:VCALENDAR