BEGIN:VCALENDAR
VERSION:2.0
BEGIN:VEVENT
DTSTART:20250913T110000
DTEND:20250913T160000
SUMMARY:Geologins Dag
DESCRIPTION:Frn jordens inre till framtidens teknik\n\nView Event at: https://geologinsdag.nu/arrangemang/geologi-och-teknik-pa-tekniska-museet/
END:VEVENT
END:VCALENDAR