BEGIN:VCALENDAR
VERSION:2.0
BEGIN:VEVENT
DTSTART:20240914T100000
DTEND:20240914T140000
SUMMARY:Geologins Dag
DESCRIPTION:Hur bildades berggrunden i sthammars kommun och nr? Besk oss s fr ni svaren!\n\nView Event at: http://geologinsdag.nu/arrangemang/varfor-ar-berggrunden-i-osthammars-kommun-lamplig-for-forvaring-av-radioaktivt-avfall/
END:VEVENT
END:VCALENDAR