BEGIN:VCALENDAR
VERSION:2.0
BEGIN:VEVENT
DTSTART:20230909T110000
DTEND:20230909T160000
SUMMARY:Geologins Dag
DESCRIPTION:Stripa gruvomrde har ppet 9 september mellan 11.00 - 16.00 p Geologins dag\n\nView Event at: http://geologinsdag.nu/arrangemang/stripa-gruvomrade/
END:VEVENT
END:VCALENDAR