BEGIN:VCALENDAR
VERSION:2.0
BEGIN:VEVENT
DTSTART:20230909T140000
DTEND:20230909T150000
SUMMARY:Geologins Dag
DESCRIPTION:Flj med och lr dig mer om jrnets historia i Bergslagen.\n\nView Event at: http://geologinsdag.nu/arrangemang/guidad-tur-av-nya-lapphyttan/
END:VEVENT
END:VCALENDAR