BEGIN:VCALENDAR
VERSION:2.0
BEGIN:VEVENT
DTSTART:20230909T100000
DTEND:20230909T170000
SUMMARY:Geologins Dag
DESCRIPTION:Utstllning med stenar\n\nView Event at: http://geologinsdag.nu/arrangemang/geologiklubben-i-helsingborg/
END:VEVENT
END:VCALENDAR