BEGIN:VCALENDAR
VERSION:2.0
BEGIN:VEVENT
DTSTART:20240914T090000
DTEND:20240914T130000
SUMMARY:Geologins Dag
DESCRIPTION:Upptck och utforska fossilernas fascinerande vrld! Under Geologins Dag lrdag den 14 september arrangerar vi p Platbergens Geopark fossilletning, dr du har mjlighet att hitta en halv miljard r\n\nView Event at: http://geologinsdag.nu/arrangemang/fossiljakt-med-platabergens-geopark/
END:VEVENT
END:VCALENDAR